BEGIN:VCALENDAR
VERSION:2.0
PRODID:-//Holy Rosary Church - Archdiocese of Winnipeg - ECPv6.15.20//NONSGML v1.0//EN
CALSCALE:GREGORIAN
METHOD:PUBLISH
X-ORIGINAL-URL:https://holyrosarychurch.ca
X-WR-CALDESC:Events for Holy Rosary Church - Archdiocese of Winnipeg
REFRESH-INTERVAL;VALUE=DURATION:PT1H
X-Robots-Tag:noindex
X-PUBLISHED-TTL:PT1H
BEGIN:VTIMEZONE
TZID:America/Chicago
BEGIN:DAYLIGHT
TZOFFSETFROM:-0600
TZOFFSETTO:-0500
TZNAME:CDT
DTSTART:20180311T080000
END:DAYLIGHT
BEGIN:STANDARD
TZOFFSETFROM:-0500
TZOFFSETTO:-0600
TZNAME:CST
DTSTART:20181104T070000
END:STANDARD
BEGIN:DAYLIGHT
TZOFFSETFROM:-0600
TZOFFSETTO:-0500
TZNAME:CDT
DTSTART:20190310T080000
END:DAYLIGHT
BEGIN:STANDARD
TZOFFSETFROM:-0500
TZOFFSETTO:-0600
TZNAME:CST
DTSTART:20191103T070000
END:STANDARD
BEGIN:DAYLIGHT
TZOFFSETFROM:-0600
TZOFFSETTO:-0500
TZNAME:CDT
DTSTART:20200308T080000
END:DAYLIGHT
BEGIN:STANDARD
TZOFFSETFROM:-0500
TZOFFSETTO:-0600
TZNAME:CST
DTSTART:20201101T070000
END:STANDARD
BEGIN:DAYLIGHT
TZOFFSETFROM:-0600
TZOFFSETTO:-0500
TZNAME:CDT
DTSTART:20210314T080000
END:DAYLIGHT
BEGIN:STANDARD
TZOFFSETFROM:-0500
TZOFFSETTO:-0600
TZNAME:CST
DTSTART:20211107T070000
END:STANDARD
END:VTIMEZONE
BEGIN:VEVENT
DTSTART;TZID=America/Chicago:20200213T183000
DTEND;TZID=America/Chicago:20200213T193000
DTSTAMP:20260421T035525
CREATED:20190725T184832Z
LAST-MODIFIED:20190725T184832Z
UID:2459-1581618600-1581622200@holyrosarychurch.ca
SUMMARY:Ounce of Courage CA group
DESCRIPTION:
URL:https://holyrosarychurch.ca/event/ounce-of-courage-ca-group-46/
CATEGORIES:Outreach
END:VEVENT
BEGIN:VEVENT
DTSTART;TZID=America/Chicago:20200212T183000
DTEND;TZID=America/Chicago:20200212T193000
DTSTAMP:20260421T035525
CREATED:20190725T184758Z
LAST-MODIFIED:20190725T184758Z
UID:2457-1581532200-1581535800@holyrosarychurch.ca
SUMMARY:Ounce of Courage CA group
DESCRIPTION:
URL:https://holyrosarychurch.ca/event/ounce-of-courage-ca-group-45/
CATEGORIES:Outreach
END:VEVENT
BEGIN:VEVENT
DTSTART;TZID=America/Chicago:20200206T183000
DTEND;TZID=America/Chicago:20200206T193000
DTSTAMP:20260421T035525
CREATED:20190725T184650Z
LAST-MODIFIED:20190725T184650Z
UID:2453-1581013800-1581017400@holyrosarychurch.ca
SUMMARY:Ounce of Courage CA group
DESCRIPTION:
URL:https://holyrosarychurch.ca/event/ounce-of-courage-ca-group-43/
CATEGORIES:Outreach
END:VEVENT
BEGIN:VEVENT
DTSTART;TZID=America/Chicago:20200205T183000
DTEND;TZID=America/Chicago:20200205T193000
DTSTAMP:20260421T035525
CREATED:20190725T184601Z
LAST-MODIFIED:20190725T184601Z
UID:2451-1580927400-1580931000@holyrosarychurch.ca
SUMMARY:Ounce of Courage CA group
DESCRIPTION:
URL:https://holyrosarychurch.ca/event/ounce-of-courage-ca-group-42/
CATEGORIES:Outreach
END:VEVENT
BEGIN:VEVENT
DTSTART;TZID=America/Chicago:20200131T183000
DTEND;TZID=America/Chicago:20200131T193000
DTSTAMP:20260421T035525
CREATED:20190725T184515Z
LAST-MODIFIED:20190725T184515Z
UID:2449-1580495400-1580499000@holyrosarychurch.ca
SUMMARY:Ounce of Courage CA group
DESCRIPTION:
URL:https://holyrosarychurch.ca/event/ounce-of-courage-ca-group-41/
CATEGORIES:Outreach
END:VEVENT
BEGIN:VEVENT
DTSTART;TZID=America/Chicago:20200130T183000
DTEND;TZID=America/Chicago:20200130T193000
DTSTAMP:20260421T035525
CREATED:20190725T184446Z
LAST-MODIFIED:20190725T184446Z
UID:2447-1580409000-1580412600@holyrosarychurch.ca
SUMMARY:Ounce of Courage CA group
DESCRIPTION:
URL:https://holyrosarychurch.ca/event/ounce-of-courage-ca-group-40/
CATEGORIES:Outreach
END:VEVENT
BEGIN:VEVENT
DTSTART;TZID=America/Chicago:20200129T183000
DTEND;TZID=America/Chicago:20200129T193000
DTSTAMP:20260421T035525
CREATED:20190725T184417Z
LAST-MODIFIED:20190725T184417Z
UID:2445-1580322600-1580326200@holyrosarychurch.ca
SUMMARY:Ounce of Courage CA group
DESCRIPTION:
URL:https://holyrosarychurch.ca/event/ounce-of-courage-ca-group-39/
CATEGORIES:Outreach
END:VEVENT
BEGIN:VEVENT
DTSTART;TZID=America/Chicago:20200124T183000
DTEND;TZID=America/Chicago:20200124T193000
DTSTAMP:20260421T035525
CREATED:20190725T184349Z
LAST-MODIFIED:20190725T184349Z
UID:2443-1579890600-1579894200@holyrosarychurch.ca
SUMMARY:Ounce of Courage CA group
DESCRIPTION:
URL:https://holyrosarychurch.ca/event/ounce-of-courage-ca-group-38/
CATEGORIES:Outreach
END:VEVENT
BEGIN:VEVENT
DTSTART;TZID=America/Chicago:20200123T183000
DTEND;TZID=America/Chicago:20200123T193000
DTSTAMP:20260421T035525
CREATED:20190725T184323Z
LAST-MODIFIED:20190725T184323Z
UID:2441-1579804200-1579807800@holyrosarychurch.ca
SUMMARY:Ounce of Courage CA group
DESCRIPTION:
URL:https://holyrosarychurch.ca/event/ounce-of-courage-ca-group-37/
CATEGORIES:Outreach
END:VEVENT
BEGIN:VEVENT
DTSTART;TZID=America/Chicago:20200122T183000
DTEND;TZID=America/Chicago:20200122T193000
DTSTAMP:20260421T035525
CREATED:20190725T184252Z
LAST-MODIFIED:20190725T184252Z
UID:2439-1579717800-1579721400@holyrosarychurch.ca
SUMMARY:Ounce of Courage CA group
DESCRIPTION:
URL:https://holyrosarychurch.ca/event/ounce-of-courage-ca-group-36/
CATEGORIES:Outreach
END:VEVENT
BEGIN:VEVENT
DTSTART;TZID=America/Chicago:20200117T183000
DTEND;TZID=America/Chicago:20200117T193000
DTSTAMP:20260421T035525
CREATED:20190725T184225Z
LAST-MODIFIED:20190725T184225Z
UID:2437-1579285800-1579289400@holyrosarychurch.ca
SUMMARY:Ounce of Courage CA group
DESCRIPTION:
URL:https://holyrosarychurch.ca/event/ounce-of-courage-ca-group-35/
CATEGORIES:Outreach
END:VEVENT
BEGIN:VEVENT
DTSTART;TZID=America/Chicago:20200116T183000
DTEND;TZID=America/Chicago:20200116T193000
DTSTAMP:20260421T035525
CREATED:20190725T184158Z
LAST-MODIFIED:20190725T184158Z
UID:2435-1579199400-1579203000@holyrosarychurch.ca
SUMMARY:Ounce of Courage CA group
DESCRIPTION:
URL:https://holyrosarychurch.ca/event/ounce-of-courage-ca-group-34/
CATEGORIES:Outreach
END:VEVENT
BEGIN:VEVENT
DTSTART;TZID=America/Chicago:20200115T183000
DTEND;TZID=America/Chicago:20200115T193000
DTSTAMP:20260421T035525
CREATED:20190725T184128Z
LAST-MODIFIED:20190725T184128Z
UID:2433-1579113000-1579116600@holyrosarychurch.ca
SUMMARY:Ounce of Courage CA group
DESCRIPTION:
URL:https://holyrosarychurch.ca/event/ounce-of-courage-ca-group-33/
CATEGORIES:Outreach
END:VEVENT
BEGIN:VEVENT
DTSTART;TZID=America/Chicago:20200110T183000
DTEND;TZID=America/Chicago:20200110T193000
DTSTAMP:20260421T035525
CREATED:20190725T184044Z
LAST-MODIFIED:20190725T184044Z
UID:2431-1578681000-1578684600@holyrosarychurch.ca
SUMMARY:Ounce of Courage CA group
DESCRIPTION:
URL:https://holyrosarychurch.ca/event/ounce-of-courage-ca-group-32/
CATEGORIES:Outreach
END:VEVENT
BEGIN:VEVENT
DTSTART;TZID=America/Chicago:20200109T183000
DTEND;TZID=America/Chicago:20200109T193000
DTSTAMP:20260421T035525
CREATED:20190725T184017Z
LAST-MODIFIED:20190725T184017Z
UID:2429-1578594600-1578598200@holyrosarychurch.ca
SUMMARY:Ounce of Courage CA group
DESCRIPTION:
URL:https://holyrosarychurch.ca/event/ounce-of-courage-ca-group-31/
CATEGORIES:Outreach
END:VEVENT
BEGIN:VEVENT
DTSTART;TZID=America/Chicago:20200108T183000
DTEND;TZID=America/Chicago:20200108T193000
DTSTAMP:20260421T035525
CREATED:20190725T183948Z
LAST-MODIFIED:20190725T183948Z
UID:2427-1578508200-1578511800@holyrosarychurch.ca
SUMMARY:Ounce of Courage CA group
DESCRIPTION:
URL:https://holyrosarychurch.ca/event/ounce-of-courage-ca-group-30/
CATEGORIES:Outreach
END:VEVENT
BEGIN:VEVENT
DTSTART;TZID=America/Chicago:20200103T183000
DTEND;TZID=America/Chicago:20200103T193000
DTSTAMP:20260421T035525
CREATED:20190725T183917Z
LAST-MODIFIED:20190725T183917Z
UID:2425-1578076200-1578079800@holyrosarychurch.ca
SUMMARY:Ounce of Courage CA group
DESCRIPTION:
URL:https://holyrosarychurch.ca/event/ounce-of-courage-ca-group-29/
CATEGORIES:Outreach
END:VEVENT
BEGIN:VEVENT
DTSTART;TZID=America/Chicago:20200102T183000
DTEND;TZID=America/Chicago:20200102T193000
DTSTAMP:20260421T035525
CREATED:20190725T183817Z
LAST-MODIFIED:20190725T183817Z
UID:2423-1577989800-1577993400@holyrosarychurch.ca
SUMMARY:Ounce of Courage CA group
DESCRIPTION:
URL:https://holyrosarychurch.ca/event/ounce-of-courage-ca-group-28/
CATEGORIES:Outreach
END:VEVENT
BEGIN:VEVENT
DTSTART;TZID=America/Chicago:20191220T183000
DTEND;TZID=America/Chicago:20191220T193000
DTSTAMP:20260421T035525
CREATED:20190725T183741Z
LAST-MODIFIED:20190725T183741Z
UID:2421-1576866600-1576870200@holyrosarychurch.ca
SUMMARY:Ounce of Courage CA group
DESCRIPTION:
URL:https://holyrosarychurch.ca/event/ounce-of-courage-ca-group-27/
CATEGORIES:Outreach
END:VEVENT
BEGIN:VEVENT
DTSTART;TZID=America/Chicago:20191219T183000
DTEND;TZID=America/Chicago:20191219T193000
DTSTAMP:20260421T035525
CREATED:20190725T183708Z
LAST-MODIFIED:20190725T183708Z
UID:2419-1576780200-1576783800@holyrosarychurch.ca
SUMMARY:Ounce of Courage CA group
DESCRIPTION:
URL:https://holyrosarychurch.ca/event/ounce-of-courage-ca-group-26/
CATEGORIES:Outreach
END:VEVENT
BEGIN:VEVENT
DTSTART;TZID=America/Chicago:20191218T183000
DTEND;TZID=America/Chicago:20191218T193000
DTSTAMP:20260421T035525
CREATED:20190725T183639Z
LAST-MODIFIED:20190725T183639Z
UID:2417-1576693800-1576697400@holyrosarychurch.ca
SUMMARY:Ounce of Courage CA group
DESCRIPTION:
URL:https://holyrosarychurch.ca/event/ounce-of-courage-ca-group-25/
CATEGORIES:Outreach
END:VEVENT
BEGIN:VEVENT
DTSTART;TZID=America/Chicago:20191213T183000
DTEND;TZID=America/Chicago:20191213T193000
DTSTAMP:20260421T035525
CREATED:20190725T183611Z
LAST-MODIFIED:20190725T183611Z
UID:2415-1576261800-1576265400@holyrosarychurch.ca
SUMMARY:Ounce of Courage CA group
DESCRIPTION:
URL:https://holyrosarychurch.ca/event/ounce-of-courage-ca-group-24/
CATEGORIES:Outreach
END:VEVENT
BEGIN:VEVENT
DTSTART;TZID=America/Chicago:20191212T183000
DTEND;TZID=America/Chicago:20191212T193000
DTSTAMP:20260421T035525
CREATED:20190725T183544Z
LAST-MODIFIED:20190725T183544Z
UID:2413-1576175400-1576179000@holyrosarychurch.ca
SUMMARY:Ounce of Courage CA group
DESCRIPTION:
URL:https://holyrosarychurch.ca/event/ounce-of-courage-ca-group-23/
CATEGORIES:Outreach
END:VEVENT
BEGIN:VEVENT
DTSTART;TZID=America/Chicago:20191211T183000
DTEND;TZID=America/Chicago:20191211T193000
DTSTAMP:20260421T035525
CREATED:20190725T183450Z
LAST-MODIFIED:20190725T183450Z
UID:2411-1576089000-1576092600@holyrosarychurch.ca
SUMMARY:Ounce of Courage CA group
DESCRIPTION:
URL:https://holyrosarychurch.ca/event/ounce-of-courage-ca-group-22/
CATEGORIES:Outreach
END:VEVENT
BEGIN:VEVENT
DTSTART;TZID=America/Chicago:20191206T183000
DTEND;TZID=America/Chicago:20191206T193000
DTSTAMP:20260421T035525
CREATED:20190725T183357Z
LAST-MODIFIED:20190725T183411Z
UID:2409-1575657000-1575660600@holyrosarychurch.ca
SUMMARY:Ounce of Courage CA group
DESCRIPTION:
URL:https://holyrosarychurch.ca/event/ounce-of-courage-ca-group-21/
CATEGORIES:Outreach
END:VEVENT
BEGIN:VEVENT
DTSTART;TZID=America/Chicago:20191205T183000
DTEND;TZID=America/Chicago:20191205T193000
DTSTAMP:20260421T035525
CREATED:20190725T183315Z
LAST-MODIFIED:20190725T183315Z
UID:2407-1575570600-1575574200@holyrosarychurch.ca
SUMMARY:Ounce of Courage CA group
DESCRIPTION:
URL:https://holyrosarychurch.ca/event/ounce-of-courage-ca-group-20/
CATEGORIES:Outreach
END:VEVENT
BEGIN:VEVENT
DTSTART;TZID=America/Chicago:20191204T183000
DTEND;TZID=America/Chicago:20191204T193000
DTSTAMP:20260421T035525
CREATED:20190725T183127Z
LAST-MODIFIED:20190725T183230Z
UID:2405-1575484200-1575487800@holyrosarychurch.ca
SUMMARY:Ounce of Courage CA group
DESCRIPTION:
URL:https://holyrosarychurch.ca/event/ounce-of-courage-ca-group-19/
CATEGORIES:Outreach
END:VEVENT
BEGIN:VEVENT
DTSTART;TZID=America/Chicago:20191129T183000
DTEND;TZID=America/Chicago:20191129T193000
DTSTAMP:20260421T035525
CREATED:20190725T183036Z
LAST-MODIFIED:20190725T183036Z
UID:2403-1575052200-1575055800@holyrosarychurch.ca
SUMMARY:Ounce of Courage CA group
DESCRIPTION:
URL:https://holyrosarychurch.ca/event/ounce-of-courage-ca-group-18/
CATEGORIES:Outreach
END:VEVENT
BEGIN:VEVENT
DTSTART;TZID=America/Chicago:20191128T183000
DTEND;TZID=America/Chicago:20191128T193000
DTSTAMP:20260421T035525
CREATED:20190725T183009Z
LAST-MODIFIED:20190725T183009Z
UID:2401-1574965800-1574969400@holyrosarychurch.ca
SUMMARY:Ounce of Courage CA group
DESCRIPTION:
URL:https://holyrosarychurch.ca/event/ounce-of-courage-ca-group-17/
CATEGORIES:Outreach
END:VEVENT
BEGIN:VEVENT
DTSTART;TZID=America/Chicago:20191127T183000
DTEND;TZID=America/Chicago:20191127T193000
DTSTAMP:20260421T035525
CREATED:20190725T182921Z
LAST-MODIFIED:20190725T182921Z
UID:2399-1574879400-1574883000@holyrosarychurch.ca
SUMMARY:Ounce of Courage CA group
DESCRIPTION:
URL:https://holyrosarychurch.ca/event/ounce-of-courage-ca-group-16/
CATEGORIES:Outreach
END:VEVENT
END:VCALENDAR