BEGIN:VCALENDAR
VERSION:2.0
PRODID:-//Holy Rosary Church - Archdiocese of Winnipeg - ECPv6.15.20//NONSGML v1.0//EN
CALSCALE:GREGORIAN
METHOD:PUBLISH
X-WR-CALNAME:Holy Rosary Church - Archdiocese of Winnipeg
X-ORIGINAL-URL:http://holyrosarychurch.ca
X-WR-CALDESC:Events for Holy Rosary Church - Archdiocese of Winnipeg
REFRESH-INTERVAL;VALUE=DURATION:PT1H
X-Robots-Tag:noindex
X-PUBLISHED-TTL:PT1H
BEGIN:VTIMEZONE
TZID:America/Chicago
BEGIN:DAYLIGHT
TZOFFSETFROM:-0600
TZOFFSETTO:-0500
TZNAME:CDT
DTSTART:20240310T080000
END:DAYLIGHT
BEGIN:STANDARD
TZOFFSETFROM:-0500
TZOFFSETTO:-0600
TZNAME:CST
DTSTART:20241103T070000
END:STANDARD
BEGIN:DAYLIGHT
TZOFFSETFROM:-0600
TZOFFSETTO:-0500
TZNAME:CDT
DTSTART:20250309T080000
END:DAYLIGHT
BEGIN:STANDARD
TZOFFSETFROM:-0500
TZOFFSETTO:-0600
TZNAME:CST
DTSTART:20251102T070000
END:STANDARD
BEGIN:DAYLIGHT
TZOFFSETFROM:-0600
TZOFFSETTO:-0500
TZNAME:CDT
DTSTART:20260308T080000
END:DAYLIGHT
BEGIN:STANDARD
TZOFFSETFROM:-0500
TZOFFSETTO:-0600
TZNAME:CST
DTSTART:20261101T070000
END:STANDARD
END:VTIMEZONE
BEGIN:VTIMEZONE
TZID:UTC
BEGIN:STANDARD
TZOFFSETFROM:+0000
TZOFFSETTO:+0000
TZNAME:UTC
DTSTART:20160101T000000
END:STANDARD
END:VTIMEZONE
BEGIN:VEVENT
DTSTART;TZID=America/Chicago:20250914T120000
DTEND;TZID=America/Chicago:20250914T130000
DTSTAMP:20260419T093342
CREATED:20250911T212416Z
LAST-MODIFIED:20250911T212416Z
UID:6164-1757851200-1757854800@holyrosarychurch.ca
SUMMARY:Back to School Blessing
DESCRIPTION:
URL:http://holyrosarychurch.ca/event/back-to-school-blessing/
LOCATION:Holy Rosary Church\, 510 River Avenue\, Winnipeg\, Manitoba\, R3L 0E1\, Canada
CATEGORIES:Bulletin Events
ORGANIZER;CN="Catechism":MAILTO:julia.stillerhr@gmail.com
END:VEVENT
BEGIN:VEVENT
DTSTART;TZID=UTC:20171104T100000
DTEND;TZID=UTC:20171104T150000
DTSTAMP:20260419T093342
CREATED:20171023T215718Z
LAST-MODIFIED:20171023T215718Z
UID:532-1509789600-1509807600@holyrosarychurch.ca
SUMMARY:St. Benedict’s Retreat and Conference Centre
DESCRIPTION:Visio Divina: Complement your knowledge and practice of Lectio Divina with this additional way to pray\, using art. \n\n\n\n\n\nThis workshop will be offered one Saturday\, Nov.4\, 10-3pm. \n\n\n\n\n\n\n\n\n\nLed by Patricia Frain and Liz Coffman. \n\n\n\n\n\n\n\n\n\nYou can expect to gaze at art and open your heart to what God has to say to you through it. No art experience required. \n$65 includes lunch and snack in addition to tuition.
URL:http://holyrosarychurch.ca/event/st-benedicts-retreat-conference-centre/
LOCATION:Manitoba
CATEGORIES:Bulletin Events
END:VEVENT
BEGIN:VEVENT
DTSTART;TZID=UTC:20171027T190000
DTEND;TZID=UTC:20171027T210000
DTSTAMP:20260419T093342
CREATED:20171023T215452Z
LAST-MODIFIED:20171023T215452Z
UID:529-1509130800-1509138000@holyrosarychurch.ca
SUMMARY:Catholic Singles Event
DESCRIPTION:Catholic Singles Event: Games Night – Fri.\, Oct. 27\, 7 p.m. \nCome on out for an evening of fellowship\, games and fun for Catholic singles at Mary\, Mother of the Church Parish\, 85 Kirkbridge Drive. \nPlease bring a snack! For more information: www.mmoc.ca.
URL:http://holyrosarychurch.ca/event/catholic-singles-event/
LOCATION:Mary\, Mother of the Church Parish\, 85 Kirkbridge Drive\, Winnipeg\, Manitoba\, Canada
CATEGORIES:Bulletin Events
END:VEVENT
END:VCALENDAR